{
 "currentVersion": 11.3,
 "cimVersion": "3.3.0",
 "serviceDescription": "Inventaires de végétaux",
 "mapName": "Orthophoto_2021",
 "description": "Inventaires de végétaux",
 "copyrightText": "",
 "supportsDynamicLayers": true,
 "layers": [
  {
   "id": 0,
   "name": "ORTHO_2021",
   "parentLayerId": -1,
   "defaultVisibility": true,
   "subLayerIds": null,
   "minScale": 0,
   "maxScale": 0,
   "type": "Raster Layer",
   "supportsDynamicLegends": true
  }
 ],
 "tables": [],
 "spatialReference": {
  "wkid": 2056,
  "latestWkid": 2056,
  "xyTolerance": 0.001,
  "zTolerance": 2,
  "mTolerance": 0.001,
  "falseX": -27386400,
  "falseY": -32067900,
  "xyUnits": 1.4099656955187955E8,
  "falseZ": 0,
  "zUnits": 1,
  "falseM": -100000,
  "mUnits": 10000
 },
 "singleFusedMapCache": true,
 "tileInfo": {
  "rows": 256,
  "cols": 256,
  "dpi": 96,
  "format": "PNG8",
  "compressionQuality": 0,
  "origin": {
   "x": -27386400,
   "y": 31814500
  },
  "spatialReference": {
   "wkid": 2056,
   "latestWkid": 2056,
   "xyTolerance": 0.001,
   "zTolerance": 0.001,
   "mTolerance": 0.001,
   "falseX": -27386400,
   "falseY": -32067900,
   "xyUnits": 1.4099656955187955E8,
   "falseZ": -100000,
   "zUnits": 10000,
   "falseM": -100000,
   "mUnits": 10000
  },
  "lods": [
   {
    "level": 0,
    "resolution": 4000,
    "scale": 1.5118110236220477E7
   },
   {
    "level": 1,
    "resolution": 3750,
    "scale": 1.4173228346456695E7
   },
   {
    "level": 2,
    "resolution": 3500,
    "scale": 1.3228346456692917E7
   },
   {
    "level": 3,
    "resolution": 3250,
    "scale": 1.2283464566929135E7
   },
   {
    "level": 4,
    "resolution": 3000,
    "scale": 1.1338582677165356E7
   },
   {
    "level": 5,
    "resolution": 2750,
    "scale": 1.0393700787401576E7
   },
   {
    "level": 6,
    "resolution": 2500,
    "scale": 9448818.897637796
   },
   {
    "level": 7,
    "resolution": 2250,
    "scale": 8503937.007874018
   },
   {
    "level": 8,
    "resolution": 2000,
    "scale": 7559055.118110239
   },
   {
    "level": 9,
    "resolution": 1750,
    "scale": 6614173.228346459
   },
   {
    "level": 10,
    "resolution": 1500,
    "scale": 5669291.338582678
   },
   {
    "level": 11,
    "resolution": 1250,
    "scale": 4724409.448818898
   },
   {
    "level": 12,
    "resolution": 1000,
    "scale": 3779527.5590551193
   },
   {
    "level": 13,
    "resolution": 750,
    "scale": 2834645.669291339
   },
   {
    "level": 14,
    "resolution": 650,
    "scale": 2456692.9133858276
   },
   {
    "level": 15,
    "resolution": 500,
    "scale": 1889763.7795275596
   },
   {
    "level": 16,
    "resolution": 250,
    "scale": 944881.8897637798
   },
   {
    "level": 17,
    "resolution": 100,
    "scale": 377952.7559055118
   },
   {
    "level": 18,
    "resolution": 50,
    "scale": 188976.3779527559
   },
   {
    "level": 19,
    "resolution": 20,
    "scale": 75590.55118110238
   },
   {
    "level": 20,
    "resolution": 10,
    "scale": 37795.27559055119
   },
   {
    "level": 21,
    "resolution": 5,
    "scale": 18897.637795275594
   },
   {
    "level": 22,
    "resolution": 2.5,
    "scale": 9448.818897637797
   },
   {
    "level": 23,
    "resolution": 2,
    "scale": 7559.055118110236
   },
   {
    "level": 24,
    "resolution": 1.5,
    "scale": 5669.291338582678
   },
   {
    "level": 25,
    "resolution": 1,
    "scale": 3779.527559055118
   },
   {
    "level": 26,
    "resolution": 0.5,
    "scale": 1889.763779527559
   },
   {
    "level": 27,
    "resolution": 0.25,
    "scale": 944.8818897637796
   },
   {
    "level": 28,
    "resolution": 0.1,
    "scale": 377.9527559055119
   },
   {
    "level": 29,
    "resolution": 0.05,
    "scale": 188.97637795275594
   }
  ]
 },
 "storageInfo": {
  "storageFormat": "esriMapCacheStorageModeCompactV2",
  "packetSize": 128
 },
 "initialExtent": {
  "xmin": 2532275,
  "ymin": 1151685.7972136224,
  "xmax": 2535025,
  "ymax": 1153614.2027863776,
  "spatialReference": {
   "wkid": 2056,
   "latestWkid": 2056,
   "xyTolerance": 0.001,
   "zTolerance": 2,
   "mTolerance": 0.001,
   "falseX": -27386400,
   "falseY": -32067900,
   "xyUnits": 1.4099656955187955E8,
   "falseZ": 0,
   "zUnits": 1,
   "falseM": -100000,
   "mUnits": 10000
  }
 },
 "fullExtent": {
  "xmin": 2532400,
  "ymin": 1151900,
  "xmax": 2534900,
  "ymax": 1153400,
  "spatialReference": {
   "wkid": 2056,
   "latestWkid": 2056,
   "xyTolerance": 0.001,
   "zTolerance": 2,
   "mTolerance": 0.001,
   "falseX": -27386400,
   "falseY": -32067900,
   "xyUnits": 1.4099656955187955E8,
   "falseZ": 0,
   "zUnits": 1,
   "falseM": -100000,
   "mUnits": 10000
  }
 },
 "datesInUnknownTimezone": false,
 "minScale": 1.5118110236220477E7,
 "maxScale": 188.97637795275594,
 "minLOD": 0,
 "maxLOD": 29,
 "units": "esriMeters",
 "supportedImageFormatTypes": "PNG32,PNG24,PNG,JPG,DIB,TIFF,EMF,PS,PDF,GIF,SVG,SVGZ,BMP",
 "documentInfo": {
  "Title": "Untitled.aprx",
  "Author": "",
  "Comments": "Inventaires de végétaux",
  "Subject": "Inventaire des végétaux",
  "Category": "",
  "Version": "2.6.0",
  "AntialiasingMode": "Fast",
  "TextAntialiasingMode": "Force",
  "Keywords": "UNIL,Unibat,Arbres,végétaux"
 },
 "supportsQueryDomains": true,
 "capabilities": "Map,Query,Data",
 "supportedQueryFormats": "JSON, geoJSON, PBF",
 "exportTilesAllowed": false,
 "referenceScale": 1000.0,
 "supportsDatumTransformation": true,
 "archivingInfo": {
  "supportsHistoricMoment": false
 },
 "supportsClipping": true,
 "supportsSpatialFilter": true,
 "supportsTimeRelation": true,
 "supportsQueryDataElements": true,
 "mapUnits": {
  "uwkid": 9001
 },
 "maxRecordCount": 2000,
 "maxImageHeight": 4096,
 "maxImageWidth": 4096,
 "supportedExtensions": "",
 "serviceItemId": "af39cacefed4430a9da66ccba79482cd"
}
